data_15472-ICSD
#©2008 by Fachinformationszentrum Karlsruhe, and the U.S. Secretary of 
#Commerce on behalf of the United States.  All rights reserved.
_database_code_ICSD                15472
_audit_creation_date               1980/01/01
_audit_update_record               2006/04/01
_chemical_name_systematic          'Nitrogen - Alpha'
_chemical_formula_structural       N2
_chemical_formula_sum              N2
_publ_section_title
;
A refinement of the positional parameter in alpha-nitrogen
;
loop_
_citation_id
_citation_journal_abbrev
_citation_year
_citation_journal_volume
_citation_page_first
_citation_page_last
_citation_journal_id_ASTM
primary 'Acta Crystallographica (1,1948-23,1967)' 1961 14 1000 1001 ACCRA9
2 'Acta Crystallographica (1,1948-23,1967)' 1961 14 11 19 ACCRA9
3 'Phase Transition' 1992 38 127 220 PHTRDP
_publ_author_name                  'Donohue, J.'
_cell_length_a                     5.661(8)
_cell_length_b                     5.661(8)
_cell_length_c                     5.661(8)
_cell_angle_alpha                  90.
_cell_angle_beta                   90.
_cell_angle_gamma                  90.
_cell_volume                       181.42
_cell_formula_units_Z              4
_symmetry_space_group_name_H-M     'P a -3'
_symmetry_Int_Tables_number        205
_refine_ls_R_factor_all            0.174
loop_
_symmetry_equiv_pos_site_id
_symmetry_equiv_pos_as_xyz
  1	'-z+1/2, x+1/2, y'
  2	'z+1/2, x, -y+1/2'
  3	'z, -x+1/2, y+1/2'
  4	'-z, -x, -y'
  5	'y, -z+1/2, x+1/2'
  6	'-y+1/2, z+1/2, x'
  7	'y+1/2, z, -x+1/2'
  8	'-y, -z, -x'
  9	'x+1/2, y, -z+1/2'
 10	'x, -y+1/2, z+1/2'
 11	'-x+1/2, y+1/2, z'
 12	'-x, -y, -z'
 13	'z+1/2, -x+1/2, -y'
 14	'-z+1/2, -x, y+1/2'
 15	'-z, x+1/2, -y+1/2'
 16	'z, x, y'
 17	'-y, z+1/2, -x+1/2'
 18	'y+1/2, -z+1/2, -x'
 19	'-y+1/2, -z, x+1/2'
 20	'y, z, x'
 21	'-x+1/2, -y, z+1/2'
 22	'-x, y+1/2, -z+1/2'
 23	'x+1/2, -y+1/2, -z'
 24	'x, y, z'
loop_
_atom_type_symbol
_atom_type_oxidation_number
N0+	0
loop_
_atom_site_label
_atom_site_type_symbol
_atom_site_symmetry_multiplicity
_atom_site_Wyckoff_symbol
_atom_site_fract_x
_atom_site_fract_y
_atom_site_fract_z
_atom_site_occupancy
_atom_site_attached_hydrogens
N1 N0+ 8 c 0.053(2) 0.053 0.053 1. 0 

#End of data_15472-ICSD


