data_30255-ICSD
#©2008 by Fachinformationszentrum Karlsruhe, and the U.S. Secretary of 
#Commerce on behalf of the United States.  All rights reserved.
_database_code_ICSD                30255
_audit_creation_date               1986/10/09
_audit_update_record               2007/08/01
_chemical_name_systematic          'Cadmium Chloride'
_chemical_formula_structural       'Cd Cl2'
_chemical_formula_sum              'Cd1 Cl2'
_publ_section_title
;
The crystal structure of cadmium chloride
;
loop_
_citation_id
_citation_journal_abbrev
_citation_year
_citation_journal_volume
_citation_page_first
_citation_page_last
_citation_journal_id_ASTM
primary
;
Zeitschrift fuer Kristallographie, Kristallgeometrie, Kristallphysik, 
Kristallchemie (-144,1977)
;
 1930 74 546 551 ZEKGAX
_publ_author_name                  'Pauling, L.;Hoard, J.L.'
_cell_length_a                     6.23
_cell_length_b                     6.23
_cell_length_c                     6.23
_cell_angle_alpha                  36.03
_cell_angle_beta                   36.03
_cell_angle_gamma                  36.03
_cell_volume                       74.83
_cell_formula_units_Z              1
_symmetry_space_group_name_H-M     'R -3 m R'
_symmetry_Int_Tables_number        166
loop_
_symmetry_equiv_pos_site_id
_symmetry_equiv_pos_as_xyz
  1	'-z, -y, -x'
  2	'-z, -x, -y'
  3	'-x, -z, -y'
  4	'-y, -z, -x'
  5	'-y, -x, -z'
  6	'-x, -y, -z'
  7	'z, y, x'
  8	'z, x, y'
  9	'x, z, y'
 10	'y, z, x'
 11	'y, x, z'
 12	'x, y, z'
loop_
_atom_type_symbol
_atom_type_oxidation_number
Cd2+	2
Cl1-	-1
loop_
_atom_site_label
_atom_site_type_symbol
_atom_site_symmetry_multiplicity
_atom_site_Wyckoff_symbol
_atom_site_fract_x
_atom_site_fract_y
_atom_site_fract_z
_atom_site_occupancy
_atom_site_attached_hydrogens
Cd1 Cd2+ 1 a 0 0 0 1. 0 
Cl1 Cl1- 2 c 0.25(1) 0.25(1) 0.25(1) 1. 0 

#End of data_30255-ICSD


